BEGIN:VCALENDAR
VERSION:2.0
PRODID:-//SK3JR - ECPv6.15.20//NONSGML v1.0//EN
CALSCALE:GREGORIAN
METHOD:PUBLISH
X-WR-CALNAME:SK3JR
X-ORIGINAL-URL:https://www.sk3jr.se
X-WR-CALDESC:Händelser för SK3JR
REFRESH-INTERVAL;VALUE=DURATION:PT1H
X-Robots-Tag:noindex
X-PUBLISHED-TTL:PT1H
BEGIN:VTIMEZONE
TZID:Europe/Stockholm
BEGIN:DAYLIGHT
TZOFFSETFROM:+0100
TZOFFSETTO:+0200
TZNAME:CEST
DTSTART:20250330T010000
END:DAYLIGHT
BEGIN:STANDARD
TZOFFSETFROM:+0200
TZOFFSETTO:+0100
TZNAME:CET
DTSTART:20251026T010000
END:STANDARD
BEGIN:DAYLIGHT
TZOFFSETFROM:+0100
TZOFFSETTO:+0200
TZNAME:CEST
DTSTART:20260329T010000
END:DAYLIGHT
BEGIN:STANDARD
TZOFFSETFROM:+0200
TZOFFSETTO:+0100
TZNAME:CET
DTSTART:20261025T010000
END:STANDARD
BEGIN:DAYLIGHT
TZOFFSETFROM:+0100
TZOFFSETTO:+0200
TZNAME:CEST
DTSTART:20270328T010000
END:DAYLIGHT
BEGIN:STANDARD
TZOFFSETFROM:+0200
TZOFFSETTO:+0100
TZNAME:CET
DTSTART:20271031T010000
END:STANDARD
END:VTIMEZONE
BEGIN:VEVENT
DTSTART;TZID=Europe/Stockholm:20260517T090000
DTEND;TZID=Europe/Stockholm:20260517T130000
DTSTAMP:20260425T184617
CREATED:20260410T064923Z
LAST-MODIFIED:20260410T064923Z
UID:3067-1779008400-1779022800@www.sk3jr.se
SUMMARY:Portabeltest
DESCRIPTION:Våromgången av SSA’s Portabeltest är i år den 17 maj!\nTesten går på CW och SSB på på 80 och 40 meter\, 07:00 – 11:00 UTC. \nTesten går på CW och SSB på på 80 och 40 meter. \nFrekvens: CW: 3525 – 3575 and 7010 – 7040 kHz.\nSSB: 3600 – 3670 and 7060 – 7130 kHz. \nTid: 07:00 – 11:00 UTC. (=09:00-13:00 Sv.sommartid) \nDet finns deltagarklasser för både enskilda och lag. \n\nOm du till äventyrs inte kan komma ut i skog och mark finns även en klass för fasta stationer\, men kom ihåg att du då inte får ropa CQ\, utan bara ropa upp och kontakta de portabla stationerna. QSO mellan fasta stationer är inte tillåtet. Läs mer i reglerna som finns här: https://contestspalten.ssa.se/rules-ssa-portabeltest/
URL:https://www.sk3jr.se/event/portabeltest/
CATEGORIES:Fielddays
END:VEVENT
END:VCALENDAR