BEGIN:VCALENDAR
VERSION:2.0
PRODID:-//SK3JR - ECPv6.15.20//NONSGML v1.0//EN
CALSCALE:GREGORIAN
METHOD:PUBLISH
X-ORIGINAL-URL:https://www.sk3jr.se
X-WR-CALDESC:Händelser för SK3JR
REFRESH-INTERVAL;VALUE=DURATION:PT1H
X-Robots-Tag:noindex
X-PUBLISHED-TTL:PT1H
BEGIN:VTIMEZONE
TZID:Europe/Stockholm
BEGIN:DAYLIGHT
TZOFFSETFROM:+0100
TZOFFSETTO:+0200
TZNAME:CEST
DTSTART:20240331T010000
END:DAYLIGHT
BEGIN:STANDARD
TZOFFSETFROM:+0200
TZOFFSETTO:+0100
TZNAME:CET
DTSTART:20241027T010000
END:STANDARD
BEGIN:DAYLIGHT
TZOFFSETFROM:+0100
TZOFFSETTO:+0200
TZNAME:CEST
DTSTART:20250330T010000
END:DAYLIGHT
BEGIN:STANDARD
TZOFFSETFROM:+0200
TZOFFSETTO:+0100
TZNAME:CET
DTSTART:20251026T010000
END:STANDARD
BEGIN:DAYLIGHT
TZOFFSETFROM:+0100
TZOFFSETTO:+0200
TZNAME:CEST
DTSTART:20260329T010000
END:DAYLIGHT
BEGIN:STANDARD
TZOFFSETFROM:+0200
TZOFFSETTO:+0100
TZNAME:CET
DTSTART:20261025T010000
END:STANDARD
END:VTIMEZONE
BEGIN:VEVENT
DTSTART;TZID=Europe/Stockholm:20250605T180000
DTEND;TZID=Europe/Stockholm:20250605T210000
DTSTAMP:20260426T062705
CREATED:20250602T064840Z
LAST-MODIFIED:20250602T064840Z
UID:2591-1749146400-1749157200@www.sk3jr.se
SUMMARY:Torsdagsträff 5 juni
DESCRIPTION:Hej!\n\n\n\n\n\n\nNu på torsdag den 5 juni så kör vi igen med byggandet av vår mottagare. Förra gången vi träffades så gick Tor igenom teoretiskt hur blandaren fungerar. Nu fortsätter vi och blandar in lite praktiska övningar också för den som vill det. De flesta av oss är på plats redan kl 18 så ni som är där då kan börja. Det kommer även lite information från ordföranden gällande vårt förråd i Lockneberget.\n\n\n\n\n\n\nOrdföranden kommer även ha med lite bakverk från hans hustru som det bjuds på till kaffet.
URL:https://www.sk3jr.se/event/torsdagstraff-5-juni/
CATEGORIES:Klubbkväll med tema
END:VEVENT
BEGIN:VEVENT
DTSTART;TZID=Europe/Stockholm:20250619T180000
DTEND;TZID=Europe/Stockholm:20250619T210000
DTSTAMP:20260426T062705
CREATED:20250616T083819Z
LAST-MODIFIED:20250616T083819Z
UID:2610-1750356000-1750366800@www.sk3jr.se
SUMMARY:Torsdag 19 juni
DESCRIPTION:Torsdag den 19 juni så fortsätter vi på temat att bygga en enkel radiomottagare\, och då vi nu påbörjat arbetet med blandaren så fortsätter vi där. Ni som ännu inte byggt färdigt oscillatorn har naturligtvis tillfälle att göra den färdig också.\n\n\n\n\n\n\nUndertecknad bjuder som vanligt på go-fika till kaffet.
URL:https://www.sk3jr.se/event/torsdag-19-juni/
CATEGORIES:Klubbkväll med tema
END:VEVENT
BEGIN:VEVENT
DTSTART;TZID=Europe/Stockholm:20250626T180000
DTEND;TZID=Europe/Stockholm:20250626T210000
DTSTAMP:20260426T062705
CREATED:20250624T092954Z
LAST-MODIFIED:20250624T092954Z
UID:2625-1750960800-1750971600@www.sk3jr.se
SUMMARY:Torsdag den 26 juni så kör vi antennbyggartema!
DESCRIPTION:Fundera på en antenn ni vill testa\, så testar vi att bygga den sort ni klurat på och mäter upp för att se hur väl teori och praktik stämmer.\nBehöver det justeras så gör vi det och mäter igen för att se hur det påverkat antennen. Det blir både teori och praktik blandat.\nVad händer om man man justerar höjd över marken till exempel.
URL:https://www.sk3jr.se/event/torsdag-den-26-juni-sa-kor-vi-antennbyggartema/
CATEGORIES:Klubbkväll med tema
END:VEVENT
END:VCALENDAR