BEGIN:VCALENDAR
VERSION:2.0
PRODID:-//SK3JR - ECPv6.15.20//NONSGML v1.0//EN
CALSCALE:GREGORIAN
METHOD:PUBLISH
X-ORIGINAL-URL:https://www.sk3jr.se
X-WR-CALDESC:Händelser för SK3JR
REFRESH-INTERVAL;VALUE=DURATION:PT1H
X-Robots-Tag:noindex
X-PUBLISHED-TTL:PT1H
BEGIN:VTIMEZONE
TZID:Europe/Stockholm
BEGIN:DAYLIGHT
TZOFFSETFROM:+0100
TZOFFSETTO:+0200
TZNAME:CEST
DTSTART:20240331T010000
END:DAYLIGHT
BEGIN:STANDARD
TZOFFSETFROM:+0200
TZOFFSETTO:+0100
TZNAME:CET
DTSTART:20241027T010000
END:STANDARD
BEGIN:DAYLIGHT
TZOFFSETFROM:+0100
TZOFFSETTO:+0200
TZNAME:CEST
DTSTART:20250330T010000
END:DAYLIGHT
BEGIN:STANDARD
TZOFFSETFROM:+0200
TZOFFSETTO:+0100
TZNAME:CET
DTSTART:20251026T010000
END:STANDARD
BEGIN:DAYLIGHT
TZOFFSETFROM:+0100
TZOFFSETTO:+0200
TZNAME:CEST
DTSTART:20260329T010000
END:DAYLIGHT
BEGIN:STANDARD
TZOFFSETFROM:+0200
TZOFFSETTO:+0100
TZNAME:CET
DTSTART:20261025T010000
END:STANDARD
END:VTIMEZONE
BEGIN:VEVENT
DTSTART;TZID=Europe/Stockholm:20250710T180000
DTEND;TZID=Europe/Stockholm:20250710T210000
DTSTAMP:20260426T051602
CREATED:20250704T062730Z
LAST-MODIFIED:20250704T065947Z
UID:2634-1752170400-1752181200@www.sk3jr.se
SUMMARY:Torsdag 10 juli
DESCRIPTION:Torsdag den 10 juli så kör vi fieldday ute på bynäset om vädret tillåter. Vi samlas vid stora parkeringen på Bynäset vid samma tid som vi brukar samlas ute på teknikland. Ta med en kortvågsradio och antenn så testar vi kondsen. \nOm det spöregnar den eftermiddagen så träffas vi istället på teknikland som vanligt. \n  \nVäl mött ute i etern!
URL:https://www.sk3jr.se/event/torsdag-10-juli/
CATEGORIES:Klubbkväll med tema
END:VEVENT
BEGIN:VEVENT
DTSTART;TZID=Europe/Stockholm:20250717T180000
DTEND;TZID=Europe/Stockholm:20250717T210000
DTSTAMP:20260426T051602
CREATED:20250704T063626Z
LAST-MODIFIED:20250704T063626Z
UID:2636-1752775200-1752786000@www.sk3jr.se
SUMMARY:Torsdag 17 juli
DESCRIPTION:Torsdag 17 juli så fortsätter vi på temat att bygga en enkel radiomottagare\, och då vi nu påbörjat arbetet med blandaren så fortsätter vi där.\nNi som ännu inte byggt färdigt oscillatorn har naturligtvis tillfälle att göra den färdig också.
URL:https://www.sk3jr.se/event/torsdag-17-juli/
CATEGORIES:Klubbkväll med tema
END:VEVENT
BEGIN:VEVENT
DTSTART;TZID=Europe/Stockholm:20250724T190000
DTEND;TZID=Europe/Stockholm:20250724T210000
DTSTAMP:20260426T051602
CREATED:20250718T070159Z
LAST-MODIFIED:20250718T070159Z
UID:2657-1753383600-1753390800@www.sk3jr.se
SUMMARY:Torsdag 24 juli
DESCRIPTION:Torsdag den 24 juli så ska det regna enligt den prognos som nu ligger. Hur mycket och när på dagen är ett oskrivet kapitel. \nSå varför inte då planera ett protokollfört möte om vad vi ska göra på torsdagskvällarna under hösten/vintern? \nVi har fått in massor med bra förslag från en ny medlem\, och det finns massor med fler saker som vi kan göra. Både vad gäller praktiska men även teoretiska saker. Loggprogram\, antennberäkningsprogram\, repeaterskola och hur mycket mer som helst bara för att nämna några exempel. Kom på plats och säg vad du vill göra eller lära dig mer om.
URL:https://www.sk3jr.se/event/torsdag-24-juli/
CATEGORIES:Klubbkväll med tema
END:VEVENT
END:VCALENDAR