BEGIN:VCALENDAR
VERSION:2.0
PRODID:-//SK3JR - ECPv6.15.20//NONSGML v1.0//EN
CALSCALE:GREGORIAN
METHOD:PUBLISH
X-ORIGINAL-URL:https://www.sk3jr.se
X-WR-CALDESC:Händelser för SK3JR
REFRESH-INTERVAL;VALUE=DURATION:PT1H
X-Robots-Tag:noindex
X-PUBLISHED-TTL:PT1H
BEGIN:VTIMEZONE
TZID:Europe/Stockholm
BEGIN:DAYLIGHT
TZOFFSETFROM:+0100
TZOFFSETTO:+0200
TZNAME:CEST
DTSTART:20240331T010000
END:DAYLIGHT
BEGIN:STANDARD
TZOFFSETFROM:+0200
TZOFFSETTO:+0100
TZNAME:CET
DTSTART:20241027T010000
END:STANDARD
BEGIN:DAYLIGHT
TZOFFSETFROM:+0100
TZOFFSETTO:+0200
TZNAME:CEST
DTSTART:20250330T010000
END:DAYLIGHT
BEGIN:STANDARD
TZOFFSETFROM:+0200
TZOFFSETTO:+0100
TZNAME:CET
DTSTART:20251026T010000
END:STANDARD
BEGIN:DAYLIGHT
TZOFFSETFROM:+0100
TZOFFSETTO:+0200
TZNAME:CEST
DTSTART:20260329T010000
END:DAYLIGHT
BEGIN:STANDARD
TZOFFSETFROM:+0200
TZOFFSETTO:+0100
TZNAME:CET
DTSTART:20261025T010000
END:STANDARD
END:VTIMEZONE
BEGIN:VEVENT
DTSTART;TZID=Europe/Stockholm:20251106T180000
DTEND;TZID=Europe/Stockholm:20251106T210000
DTSTAMP:20260426T000945
CREATED:20250826T133927Z
LAST-MODIFIED:20250826T133927Z
UID:2804-1762452000-1762462800@www.sk3jr.se
SUMMARY:Byggkväll
DESCRIPTION:
URL:https://www.sk3jr.se/event/byggkvall-5/
CATEGORIES:Klubbkväll med tema
END:VEVENT
BEGIN:VEVENT
DTSTART;TZID=Europe/Stockholm:20251120T180000
DTEND;TZID=Europe/Stockholm:20251120T210000
DTSTAMP:20260426T000945
CREATED:20250826T133927Z
LAST-MODIFIED:20250826T133927Z
UID:2806-1763661600-1763672400@www.sk3jr.se
SUMMARY:Byggkväll
DESCRIPTION:
URL:https://www.sk3jr.se/event/byggkvall-6/
CATEGORIES:Klubbkväll med tema
END:VEVENT
BEGIN:VEVENT
DTSTART;TZID=Europe/Stockholm:20251127T180000
DTEND;TZID=Europe/Stockholm:20251127T210000
DTSTAMP:20260426T000945
CREATED:20250826T133927Z
LAST-MODIFIED:20250826T133927Z
UID:2807-1764266400-1764277200@www.sk3jr.se
SUMMARY:Mätteknik Spectrum/Anntennanalys/Balun/UnUn
DESCRIPTION:Torsdag den 27 november så har turen kommit till att prata om ”mätteknik” inom amatörradion. Spectrum\, antennanalysator\, antennanalys\, baluner och un/un. Som vanligt så hjälps vi åt att reda ut begreppen.
URL:https://www.sk3jr.se/event/matteknik-spectrum-anntennanalys-balun-unun/
CATEGORIES:Klubbkväll med tema
END:VEVENT
END:VCALENDAR