BEGIN:VCALENDAR
VERSION:2.0
PRODID:-//SK3JR - ECPv6.15.20//NONSGML v1.0//EN
CALSCALE:GREGORIAN
METHOD:PUBLISH
X-WR-CALNAME:SK3JR
X-ORIGINAL-URL:https://www.sk3jr.se
X-WR-CALDESC:Händelser för SK3JR
REFRESH-INTERVAL;VALUE=DURATION:PT1H
X-Robots-Tag:noindex
X-PUBLISHED-TTL:PT1H
BEGIN:VTIMEZONE
TZID:Europe/Stockholm
BEGIN:DAYLIGHT
TZOFFSETFROM:+0100
TZOFFSETTO:+0200
TZNAME:CEST
DTSTART:20250330T010000
END:DAYLIGHT
BEGIN:STANDARD
TZOFFSETFROM:+0200
TZOFFSETTO:+0100
TZNAME:CET
DTSTART:20251026T010000
END:STANDARD
BEGIN:DAYLIGHT
TZOFFSETFROM:+0100
TZOFFSETTO:+0200
TZNAME:CEST
DTSTART:20260329T010000
END:DAYLIGHT
BEGIN:STANDARD
TZOFFSETFROM:+0200
TZOFFSETTO:+0100
TZNAME:CET
DTSTART:20261025T010000
END:STANDARD
BEGIN:DAYLIGHT
TZOFFSETFROM:+0100
TZOFFSETTO:+0200
TZNAME:CEST
DTSTART:20270328T010000
END:DAYLIGHT
BEGIN:STANDARD
TZOFFSETFROM:+0200
TZOFFSETTO:+0100
TZNAME:CET
DTSTART:20271031T010000
END:STANDARD
END:VTIMEZONE
BEGIN:VEVENT
DTSTART;TZID=Europe/Stockholm:20260305T180000
DTEND;TZID=Europe/Stockholm:20260305T210000
DTSTAMP:20260425T184656
CREATED:20260123T063645Z
LAST-MODIFIED:20260123T063645Z
UID:2930-1772733600-1772744400@www.sk3jr.se
SUMMARY:Träffkväll!
DESCRIPTION:Info om kvällens tema kommer via JRAINFO.
URL:https://www.sk3jr.se/event/traffkvall-2/
CATEGORIES:Klubbkväll med tema
END:VEVENT
BEGIN:VEVENT
DTSTART;TZID=Europe/Stockholm:20260312T180000
DTEND;TZID=Europe/Stockholm:20260312T210000
DTSTAMP:20260425T184656
CREATED:20260123T063752Z
LAST-MODIFIED:20260123T063752Z
UID:2932-1773338400-1773349200@www.sk3jr.se
SUMMARY:Månadsmöte (och byggkväll)
DESCRIPTION:Senaste nytt från Styrelsen\, samt att vi fortsätter med bygget.
URL:https://www.sk3jr.se/event/manadsmote-och-byggkvall-2/
CATEGORIES:Klubbkväll med tema,Månadsmöte
END:VEVENT
BEGIN:VEVENT
DTSTART;TZID=Europe/Stockholm:20260326T180000
DTEND;TZID=Europe/Stockholm:20260326T210000
DTSTAMP:20260425T184656
CREATED:20260123T064107Z
LAST-MODIFIED:20260123T064107Z
UID:2934-1774548000-1774558800@www.sk3jr.se
SUMMARY:Byggkväll!
DESCRIPTION:Mer info kommer via JRAINFO om kvällen
URL:https://www.sk3jr.se/event/byggkvall-10/
CATEGORIES:Klubbkväll med tema
END:VEVENT
END:VCALENDAR