BEGIN:VCALENDAR
VERSION:2.0
PRODID:-//SK3JR - ECPv6.15.20//NONSGML v1.0//EN
CALSCALE:GREGORIAN
METHOD:PUBLISH
X-WR-CALNAME:SK3JR
X-ORIGINAL-URL:https://www.sk3jr.se
X-WR-CALDESC:Händelser för SK3JR
REFRESH-INTERVAL;VALUE=DURATION:PT1H
X-Robots-Tag:noindex
X-PUBLISHED-TTL:PT1H
BEGIN:VTIMEZONE
TZID:Europe/Stockholm
BEGIN:DAYLIGHT
TZOFFSETFROM:+0100
TZOFFSETTO:+0200
TZNAME:CEST
DTSTART:20250330T010000
END:DAYLIGHT
BEGIN:STANDARD
TZOFFSETFROM:+0200
TZOFFSETTO:+0100
TZNAME:CET
DTSTART:20251026T010000
END:STANDARD
BEGIN:DAYLIGHT
TZOFFSETFROM:+0100
TZOFFSETTO:+0200
TZNAME:CEST
DTSTART:20260329T010000
END:DAYLIGHT
BEGIN:STANDARD
TZOFFSETFROM:+0200
TZOFFSETTO:+0100
TZNAME:CET
DTSTART:20261025T010000
END:STANDARD
BEGIN:DAYLIGHT
TZOFFSETFROM:+0100
TZOFFSETTO:+0200
TZNAME:CEST
DTSTART:20270328T010000
END:DAYLIGHT
BEGIN:STANDARD
TZOFFSETFROM:+0200
TZOFFSETTO:+0100
TZNAME:CET
DTSTART:20271031T010000
END:STANDARD
END:VTIMEZONE
BEGIN:VEVENT
DTSTART;TZID=Europe/Stockholm:20260507T190000
DTEND;TZID=Europe/Stockholm:20260507T210000
DTSTAMP:20260425T184656
CREATED:20260410T065121Z
LAST-MODIFIED:20260410T065121Z
UID:3069-1778180400-1778187600@www.sk3jr.se
SUMMARY:Genomgång inför Portabeltesten
DESCRIPTION:Denna torsdag så går vi igenom regler och hur man skriver loggar för att genomföra Portabeltesten den 17 maj.
URL:https://www.sk3jr.se/event/genomgang-infor-portabeltesten/
CATEGORIES:Klubbkväll med tema
END:VEVENT
BEGIN:VEVENT
DTSTART;TZID=Europe/Stockholm:20260521T180000
DTEND;TZID=Europe/Stockholm:20260521T210000
DTSTAMP:20260425T184656
CREATED:20260123T065900Z
LAST-MODIFIED:20260123T065900Z
UID:2950-1779386400-1779397200@www.sk3jr.se
SUMMARY:Byggkväll
DESCRIPTION:Byggkväll och mer info kommer via JRAINFO
URL:https://www.sk3jr.se/event/byggkvall-13/
CATEGORIES:Klubbkväll med tema
END:VEVENT
BEGIN:VEVENT
DTSTART;TZID=Europe/Stockholm:20260528T080000
DTEND;TZID=Europe/Stockholm:20260528T170000
DTSTAMP:20260425T184656
CREATED:20260123T070001Z
LAST-MODIFIED:20260123T070001Z
UID:2952-1779955200-1779987600@www.sk3jr.se
SUMMARY:Torsdagsträff
DESCRIPTION:Tema kommer senare
URL:https://www.sk3jr.se/event/torsdagstraff-10/
CATEGORIES:Klubbkväll med tema
END:VEVENT
END:VCALENDAR