BEGIN:VCALENDAR
VERSION:2.0
PRODID:-//SK3JR - ECPv6.15.20//NONSGML v1.0//EN
CALSCALE:GREGORIAN
METHOD:PUBLISH
X-ORIGINAL-URL:https://www.sk3jr.se
X-WR-CALDESC:Händelser för SK3JR
REFRESH-INTERVAL;VALUE=DURATION:PT1H
X-Robots-Tag:noindex
X-PUBLISHED-TTL:PT1H
BEGIN:VTIMEZONE
TZID:Europe/Stockholm
BEGIN:DAYLIGHT
TZOFFSETFROM:+0100
TZOFFSETTO:+0200
TZNAME:CEST
DTSTART:20240331T010000
END:DAYLIGHT
BEGIN:STANDARD
TZOFFSETFROM:+0200
TZOFFSETTO:+0100
TZNAME:CET
DTSTART:20241027T010000
END:STANDARD
BEGIN:DAYLIGHT
TZOFFSETFROM:+0100
TZOFFSETTO:+0200
TZNAME:CEST
DTSTART:20250330T010000
END:DAYLIGHT
BEGIN:STANDARD
TZOFFSETFROM:+0200
TZOFFSETTO:+0100
TZNAME:CET
DTSTART:20251026T010000
END:STANDARD
BEGIN:DAYLIGHT
TZOFFSETFROM:+0100
TZOFFSETTO:+0200
TZNAME:CEST
DTSTART:20260329T010000
END:DAYLIGHT
BEGIN:STANDARD
TZOFFSETFROM:+0200
TZOFFSETTO:+0100
TZNAME:CET
DTSTART:20261025T010000
END:STANDARD
END:VTIMEZONE
BEGIN:VEVENT
DTSTART;TZID=Europe/Stockholm:20250724T190000
DTEND;TZID=Europe/Stockholm:20250724T210000
DTSTAMP:20260426T061947
CREATED:20250718T070159Z
LAST-MODIFIED:20250718T070159Z
UID:2657-1753383600-1753390800@www.sk3jr.se
SUMMARY:Torsdag 24 juli
DESCRIPTION:Torsdag den 24 juli så ska det regna enligt den prognos som nu ligger. Hur mycket och när på dagen är ett oskrivet kapitel. \nSå varför inte då planera ett protokollfört möte om vad vi ska göra på torsdagskvällarna under hösten/vintern? \nVi har fått in massor med bra förslag från en ny medlem\, och det finns massor med fler saker som vi kan göra. Både vad gäller praktiska men även teoretiska saker. Loggprogram\, antennberäkningsprogram\, repeaterskola och hur mycket mer som helst bara för att nämna några exempel. Kom på plats och säg vad du vill göra eller lära dig mer om.
URL:https://www.sk3jr.se/event/torsdag-24-juli/
CATEGORIES:Klubbkväll med tema
END:VEVENT
END:VCALENDAR