BEGIN:VCALENDAR
VERSION:2.0
PRODID:-//SK3JR - ECPv6.15.20//NONSGML v1.0//EN
CALSCALE:GREGORIAN
METHOD:PUBLISH
X-WR-CALNAME:SK3JR
X-ORIGINAL-URL:https://www.sk3jr.se
X-WR-CALDESC:Händelser för SK3JR
REFRESH-INTERVAL;VALUE=DURATION:PT1H
X-Robots-Tag:noindex
X-PUBLISHED-TTL:PT1H
BEGIN:VTIMEZONE
TZID:Europe/Stockholm
BEGIN:DAYLIGHT
TZOFFSETFROM:+0100
TZOFFSETTO:+0200
TZNAME:CEST
DTSTART:20240331T010000
END:DAYLIGHT
BEGIN:STANDARD
TZOFFSETFROM:+0200
TZOFFSETTO:+0100
TZNAME:CET
DTSTART:20241027T010000
END:STANDARD
BEGIN:DAYLIGHT
TZOFFSETFROM:+0100
TZOFFSETTO:+0200
TZNAME:CEST
DTSTART:20250330T010000
END:DAYLIGHT
BEGIN:STANDARD
TZOFFSETFROM:+0200
TZOFFSETTO:+0100
TZNAME:CET
DTSTART:20251026T010000
END:STANDARD
BEGIN:DAYLIGHT
TZOFFSETFROM:+0100
TZOFFSETTO:+0200
TZNAME:CEST
DTSTART:20260329T010000
END:DAYLIGHT
BEGIN:STANDARD
TZOFFSETFROM:+0200
TZOFFSETTO:+0100
TZNAME:CET
DTSTART:20261025T010000
END:STANDARD
END:VTIMEZONE
BEGIN:VEVENT
DTSTART;TZID=Europe/Stockholm:20251023T180000
DTEND;TZID=Europe/Stockholm:20251023T210000
DTSTAMP:20260426T025102
CREATED:20250826T133911Z
LAST-MODIFIED:20250826T133912Z
UID:2797-1761242400-1761253200@www.sk3jr.se
SUMMARY:Programvaror Antenn/Logg/
DESCRIPTION:Torsdag den 23 oktober så har turen kommit till att prata om ”Programvaror” inom amatörradion. Antennprogram\, loggprogram med mera. Som vanligt så hjälps vi åt att reda ut begreppen och om intresset finns så provkör vi några av programvarorna ute i baracken om ni vill det också.
URL:https://www.sk3jr.se/event/programvaror-antenn-logg/
CATEGORIES:Klubbkväll med tema
END:VEVENT
END:VCALENDAR